BEGIN:VCALENDAR
VERSION:2.0
PRODID:-//3nity.com//3nity CMS//EN
BEGIN:VEVENT
SUMMARY:Coffee and Conversations with Frank P. Trimble
UID:2024-07-16-1062755@www.brunswicklittletheatre.com
SEQUENCE:0
STATUS:CONFIRMED
DTSTART:20240203T150000
DTEND:20240203T170000
DTSTAMP:20161222T120000
DESCRIPTION:"Coffee and Conversations" featuring Frank P. Trimble, local author of EXTRA! EXTRA! The Musical.  Trimble will answer attendee questions and discuss the essential elements of musical theatre writing. The relaxed, conversational discussion session will be held in Brunswick Little Theatre. Coffee will be served.
URL:http://www.brunswicklittletheatre.com
END:VEVENT
END:VCALENDAR
